BEGIN:VCALENDAR
VERSION:2.0
PRODID:icalendar-ruby
CALSCALE:GREGORIAN
METHOD:PUBLISH
BEGIN:VEVENT
DTSTAMP:20260421T204710Z
UID:109-804925@firstcrestview.com
DTSTART;VALUE=DATE:20260427
DTEND;VALUE=DATE:20260508
CLASS:PUBLIC
CREATED:20260421T095258
DESCRIPTION:The main sanctuary will be unavailable during the renovation pr
 ocess. Please excuse our mess and thank you for your patience during this 
 time.
LAST-MODIFIED:20260421T095258
LOCATION:Main Sanctuary
SUMMARY:Sanctuary Renovation  
URL;VALUE=URI:https://www.firstcrestview.com/events/sanctuary-renovation/20
 26-04-27
ATTACH;FILENAME=Under-Renovations.jpg;FMTTYPE=image/jpeg:https://dq5pwpg1q8
 ru0.cloudfront.net/2026/04/09/20/54/29/d0b0afd8-9589-4381-9f56-f7b029ef329
 8/Under-Renovations.jpg
END:VEVENT
END:VCALENDAR
