BEGIN:VCALENDAR
VERSION:2.0
PRODID:icalendar-ruby
CALSCALE:GREGORIAN
METHOD:PUBLISH
BEGIN:VEVENT
DTSTAMP:20260421T222124Z
UID:110-804926@firstcrestview.com
DTSTART:20260503T160000Z
DTEND:20260503T170000Z
CLASS:PUBLIC
CREATED:20260421T095431
DESCRIPTION:Due to renovations in the Sanctuary\, the 11am Traditional Wors
 hip Service will be held in the Crossroads Center\, Wesley Hall on Sunday\
 , May 3rd.
LAST-MODIFIED:20260421T095431
LOCATION:Wesley Hall in Crossroads Center
SUMMARY:11am Traditional Service Location Change
URL;VALUE=URI:https://www.firstcrestview.com/events/11am-traditional-servic
 e-location-change/2026-05-03
ATTACH;FILENAME=IMG_8133.jpg;FMTTYPE=image/jpeg:https://dq5pwpg1q8ru0.cloud
 front.net/2026/02/17/16/47/09/af7c7733-8e15-4747-a8d0-ee5bbce5a658/IMG_813
 3.jpg
END:VEVENT
END:VCALENDAR
